Workbook

Sheet Summary
A1: Saffron Route Foods - Malaysia entry: financial summary (MYR m)
A2: Recommended path: partner-led retail + digital layer, stage-gated. Scenario sheets are fully live; the sensitivity table is a pasted run of this model (see Sensitivity).
A4: Metric | B4: Bear | C4: Base | D4: Bull | E4: Prob-weighted
A5: NPV incl. terminal value | B5: =Model_Bear!$B$85 -> -12.137943 | C5: =Model_Base!$B$85 -> 11.783603 | D5: =Model_Bull!$B$85 -> 26.322336 | E5: =B5*Assumptions!$B$27+C5*Assumptions!$B$28+D5*Assumptions!$B$29 -> 9.4379
A6: NPV - exit-multiple cross-check | B6: =Model_Bear!$B$94 -> -12.137943 | C6: =Model_Base!$B$94 -> 7.3565617 | D6: =Model_Bull!$B$94 -> 20.503013 | E6: =B6*Assumptions!$B$27+C6*Assumptions!$B$28+D6*Assumptions!$B$29 -> 5.7695484
A7: NPV - explicit 5 years only | B7: =Model_Bear!$B$83 -> -12.137943 | C7: =Model_Base!$B$83 -> -5.2473349 | D7: =Model_Bull!$B$83 -> -1.7272452 | E7: =B7*Assumptions!$B$27+C7*Assumptions!$B$28+D7*Assumptions!$B$29 -> -6.0899644
A8: IRR incl. terminal value | B8: =Model_Bear!$B$86 -> n/m | C8: =Model_Base!$B$86 -> 0.4429843 | D8: =Model_Bull!$B$86 -> 0.7039354
A9: IRR - exit-multiple cross-check | B9: =Model_Bear!$B$95 -> n/m | C9: =Model_Base!$B$95 -> 0.34885983 | D9: =Model_Bull!$B$95 -> 0.62680069
A10: Year-5 revenue | B10: =Model_Bear!$B$91 -> 17.759349 | C10: =Model_Base!$B$91 -> 30.047985 | D10: =Model_Bull!$B$91 -> 38.477741 | E10: =B10*Assumptions!$B$27+C10*Assumptions!$B$28+D10*Assumptions!$B$29 -> 29.083265
A11: Year-5 EBIT margin | B11: =Model_Bear!$B$92 -> -0.061860198 | C11: =Model_Base!$B$92 -> 0.12654674 | D11: =Model_Bull!$B$92 -> 0.18700323
A12: Peak funding need | B12: =Model_Bear!$B$88 -> 15.65921 | C12: =Model_Base!$B$88 -> 8.347578 | D12: =Model_Bull!$B$88 -> 6.2684385 | E12: =B12*Assumptions!$B$27+C12*Assumptions!$B$28+D12*Assumptions!$B$29 -> 9.6557012
A13: Operating break-even year | B13: =Model_Bear!$B$90 -> >Y5 | C13: =Model_Base!$B$90 -> 3 | D13: =Model_Bull!$B$90 -> 3
A14: Cash payback year | B14: =Model_Bear!$B$89 -> >Y5 | C14: =Model_Base!$B$89 -> >Y5 | D14: =Model_Bull!$B$89 -> 5
A15: Terminal value % of NPV | B15: =Model_Bear!$B$93 -> 0 | C15: =Model_Base!$B$93 -> 1.4453082 | D15: =Model_Bull!$B$93 -> 1.065619
A17: Base case: Year-5 share of SAM | C17: =Model_Base!H29 -> 0.047969848
A18: Base case: Year-5 revenue vs top-down SOM | C18: =Model_Base!H27/Assumptions!H44 -> 0.99937184
A19: Base case: Year-5 revenue (INR crore) | C19: =Model_Base!H27*Assumptions!$B$6/10 -> 61.598369
A21: Base case by year
B22: Y0 2027 | C22: Y1 2028 | D22: Y2 2029 | E22: Y3 2030 | F22: Y4 2031 | G22: Y5 2032
A23: Revenue | B23: =Model_Base!C27 -> 0 | C23: =Model_Base!D27 -> 2.234 | D23: =Model_Base!E27 -> 7.475 | E23: =Model_Base!F27 -> 14.878 | F23: =Model_Base!G27 -> 22.8333 | G23: =Model_Base!H27 -> 30.047985
A24: Gross profit | B24: =Model_Base!C34 -> 0 | C24: =Model_Base!D34 -> 0.96092 | D24: =Model_Base!E34 -> 3.1289 | E24: =Model_Base!F34 -> 6.14222 | F24: =Model_Base!G34 -> 9.383315 | G24: =Model_Base!H34 -> 12.331832
A25: EBITDA | B25: =Model_Base!C45 -> -1.2 | C25: =Model_Base!D45 -> -1.60837 | D25: =Model_Base!E45 -> -1.0395 | E25: =Model_Base!F45 -> 0.431992 | F25: =Model_Base!G45 -> 2.400321 | G25: =Model_Base!H45 -> 4.4424744
A26: EBIT | B26: =Model_Base!C49 -> -1.2 | C26: =Model_Base!D49 -> -1.76837 | D26: =Model_Base!E49 -> -1.2995 | E26: =Model_Base!F49 -> 0.011992 | F26: =Model_Base!G49 -> 1.860321 | G26: =Model_Base!H49 -> 3.8024745
A27: Free cash flow | B27: =Model_Base!C60 -> -2 | C27: =Model_Base!D60 -> -2.44347 | D27: =Model_Base!E60 -> -2.62565 | E27: =Model_Base!F60 -> -1.278458 | F27: =Model_Base!G60 -> 0.707026 | G27: =Model_Base!H60 -> 2.6226115
A28: Cumulative FCF | B28: =Model_Base!C61 -> -2 | C28: =Model_Base!D61 -> -4.44347 | D28: =Model_Base!E61 -> -7.06912 | E28: =Model_Base!F61 -> -8.347578 | F28: =Model_Base!G61 -> -7.640552 | G28: =Model_Base!H61 -> -5.0179405
A30: Entry-mode NPV incl. terminal value (MYR m)
A31: Direct entry (own subsidiary) | B31: =Mode_Compare!$B$21 -> -20.039839
A32: Local distribution partnership | B32: =Mode_Compare!$B$45 -> 0.85619389
A33: Joint venture (51:49) | B33: =Mode_Compare!$B$69 -> -9.3253221
A34: Digital-first (marketplace + D2C) | B34: =Mode_Compare!$B$93 -> -6.261113
A35: Recommended hybrid | B35: =Model_Base!$B$85 -> 11.783603
A55: Revenue by scenario | B55: Y0 2027 | C55: Y1 2028 | D55: Y2 2029 | E55: Y3 2030 | F55: Y4 2031 | G55: Y5 2032
A56: Bear | B56: =Model_Bear!C27 -> 0 | C56: =Model_Bear!D27 -> 0.69484 | D56: =Model_Bear!E27 -> 4.5206 | E56: =Model_Bear!F27 -> 8.87388 | F56: =Model_Bear!G27 -> 13.53331 | G56: =Model_Bear!H27 -> 17.759349
A57: Base | B57: =Model_Base!C27 -> 0 | C57: =Model_Base!D27 -> 2.234 | D57: =Model_Base!E27 -> 7.475 | E57: =Model_Base!F27 -> 14.878 | F57: =Model_Base!G27 -> 22.8333 | G57: =Model_Base!H27 -> 30.047985
A58: Bull | B58: =Model_Bull!C27 -> 0 | C58: =Model_Bull!D27 -> 2.82688 | D58: =Model_Bull!E27 -> 9.5206 | E58: =Model_Bull!F27 -> 19.00778 | F58: =Model_Bull!G27 -> 29.216625 | G58: =Model_Bull!H27 -> 38.477741

Sheet Assumptions
A1: Saffron Route Foods - Malaysia entry: assumptions (MYR m unless stated)
A2: Blue = input; black = formula; green = cross-sheet link. Change inputs here only. Notes flag judgement vs sourced data.
A5: General and valuation
A6: INR per MYR (display only) | B6: 20.5 | C6: ASSUMPTION - update to spot
A7: Discount rate (WACC, MYR) | B7: 0.12 | C7: JUDGEMENT: 12% hurdle for emerging-market FMCG entry
A8: Terminal growth | B8: 0.03 | C8: JUDGEMENT: ~inflation
A9: Corporate tax rate | B9: 0.24 | C9: Malaysian statutory rate (confirm with tax adviser); losses carried forward
A10: Net working capital % revenue | B10: 0.15 | C10: JUDGEMENT: ~55 days inventory+receivables net of payables
A11: Exit multiple (EV / Year-5 EBITDA) for cross-check | B11: 5 | C11: JUDGEMENT: deliberately conservative for a sub-scale entrant
A12: Asset life (years) | B12: 5 | C12: Straight-line
A13: Pre-launch set-up cost, Y0 (MYR m) | B13: 1.2 | C13: Halal certification, product registration, label/pack adaptation, entity set-up, shelf audit
A15: Online unit economics
A16: Annual customer retention | B16: 0.45 | C16: JUDGEMENT
A17: Orders per active customer per year | B17: 3.2 | C17: JUDGEMENT
A18: Average order value (MYR) | B18: 50 | C18: JUDGEMENT: 4-5 packs per basket
A19: Marketplace commission + fulfilment (% online revenue) | B19: 0.18 | C19: JUDGEMENT: commission, payment, 3PL
A21: Landed COGS (% of net revenue)
A22: Retail via distributor | B22: 0.62 | C22: Ex-works + freight + duty + halal; net of distributor and retailer margin
A23: Online | B23: 0.45 | C23: Higher price realisation, no distributor
A24: Foodservice (bulk packs) | B24: 0.7 | C24: Lower price per kg
A26: Scenario probabilities
A27: Bear | B27: 0.25 | C27: JUDGEMENT
A28: Base | B28: 0.5 | C28: JUDGEMENT
A29: Bull | B29: 0.25 | C29: JUDGEMENT
A31: Operating drivers by year (base case; Y0 in column C where relevant)
C32: Y0 2027 | D32: Y1 2028 | E32: Y2 2029 | F32: Y3 2030 | G32: Y4 2031 | H32: Y5 2032
A33: Retail doors at year-end (distributor-served) | D33: 450 | E33: 1200 | F33: 2100 | G33: 2900 | H33: 3500 | I33: JUDGEMENT; Modern trade + ethnic grocers + convenience
A34: Avg monthly net sales per door (MYR) | D34: 420 | E34: 450 | F34: 480 | G34: 500 | H34: 520 | I34: ~85-100 packs/door/month at ~MYR5 net per pack
A35: Foodservice / B2B net revenue (MYR m) | D35: 0.3 | E35: 0.9 | F35: 1.7 | G35: 2.5 | H35: 3.2 | I35: Mamak/restaurant chains, cloud kitchens
A36: New online customers acquired | D36: 5000 | E36: 11000 | F36: 17000 | G36: 23000 | H36: 28000 | I36: Marketplaces + TikTok Shop + D2C
A37: Blended CAC (MYR per new customer) | D37: 32 | E37: 30 | F37: 28 | G37: 26 | H37: 25 | I37: JUDGEMENT
A38: Trade and brand spend (% retail + foodservice revenue) | D38: 0.14 | E38: 0.12 | F38: 0.09 | G38: 0.075 | H38: 0.06 | I38: Promotions, listing fees, brand
A39: Distribution and logistics (% retail + foodservice revenue) | D39: 0.045 | E39: 0.04 | F39: 0.037 | G39: 0.035 | H39: 0.035 | I39: 3PL, bonded storage, cold chain
A40: Local team cost (MYR m) | D40: 1.5 | E40: 2 | F40: 2.5 | G40: 2.8 | H40: 3 | I40: Country manager, sales, trade marketing, regulatory, finance
A41: G&A and compliance (MYR m) | D41: 0.5 | E41: 0.6 | F41: 0.65 | G41: 0.7 | H41: 0.75 | I41: Audits, halal renewals, insurance, office
A42: Capex (MYR m) | C42: 0.8 | D42: 0.5 | E42: 0.8 | F42: 0.6 | G42: 0.5 | H42: 0.4 | I42: Fixtures, chillers, IT
A43: SAM (MYR m) from 02_Market_Sizing_Model | D43: 486.90987 | E43: 518.55901 | F43: 552.26535 | G43: 588.1626 | H43: 626.39317 | I43: Linked by value; re-paste if 02 changes
A44: SOM (MYR m) from 02_Market_Sizing_Model | D44: 2.4345494 | E44: 7.2598262 | F44: 14.911164 | G44: 22.938341 | H44: 30.066872 | I44: Top-down target for reconciliation
A46: Scenario levers (multipliers on base inputs)
B47: Bear | C47: Base | D47: Bull
...

Sheet Model_Bear
A1: Saffron Route - Malaysia entry: five-year model (Bear scenario, MYR m)
A2: Scenario | B2: Bear
A3: Scenario index (1 Bear, 2 Base, 3 Bull) | B3: 1
A5: Door roll-out pace | B5: =INDEX(Assumptions!$B$48:$D$48,$B$3) -> 0.65
A6: Sales per door / foodservice volume | B6: =INDEX(Assumptions!$B$49:$D$49,$B$3) -> 0.8
A7: Online new-customer volume | B7: =INDEX(Assumptions!$B$50:$D$50,$B$3) -> 0.7
A8: CAC | B8: =INDEX(Assumptions!$B$51:$D$51,$B$3) -> 1.25
A9: COGS (FX, duty, freight) | B9: =INDEX(Assumptions!$B$52:$D$52,$B$3) -> 1.08
A10: Trade and brand spend | B10: =INDEX(Assumptions!$B$53:$D$53,$B$3) -> 1.2
A11: Fixed cost (team, G&A) | B11: =INDEX(Assumptions!$B$54:$D$54,$B$3) -> 1.1
A12: Year-1 revenue factor (halal / listing delay) | B12: =INDEX(Assumptions!$B$55:$D$55,$B$3) -> 0.5
A14: MYR m unless stated | C14: Y0 2027 | D14: Y1 2028 | E14: Y2 2029 | F14: Y3 2030 | G14: Y4 2031 | H14: Y5 2032
A15: Year index | C15: 0 | D15: 1 | E15: 2 | F15: 3 | G15: 4 | H15: 5
A16: Launch-year revenue factor | C16: 1 | D16: =$B$12 -> 0.5 | E16: 1 | F16: 1 | G16: 1 | H16: 1
A17: Revenue build
A18: Doors at year-end | C18: 0 | D18: =Assumptions!D$33*$B$5 -> 292.5 | E18: =Assumptions!E$33*$B$5 -> 780 | F18: =Assumptions!F$33*$B$5 -> 1365 | G18: =Assumptions!G$33*$B$5 -> 1885 | H18: =Assumptions!H$33*$B$5 -> 2275
A19: Average doors in year | D19: =AVERAGE(C18,D18) -> 146.25 | E19: =AVERAGE(D18,E18) -> 536.25 | F19: =AVERAGE(E18,F18) -> 1072.5 | G19: =AVERAGE(F18,G18) -> 1625 | H19: =AVERAGE(G18,H18) -> 2080
A20: Monthly net sales per door (MYR) | D20: =Assumptions!D$34*$B$6 -> 336 | E20: =Assumptions!E$34*$B$6 -> 360 | F20: =Assumptions!F$34*$B$6 -> 384 | G20: =Assumptions!G$34*$B$6 -> 400 | H20: =Assumptions!H$34*$B$6 -> 416
A21: Retail revenue (via distributor) | C21: 0 | D21: =D19*D20*12/1000000*D$16 -> 0.29484 | E21: =E19*E20*12/1000000*E$16 -> 2.3166 | F21: =F19*F20*12/1000000*F$16 -> 4.94208 | G21: =G19*G20*12/1000000*G$16 -> 7.8 | H21: =H19*H20*12/1000000*H$16 -> 10.38336
A22: New online customers | C22: 0 | D22: =Assumptions!D$36*$B$7 -> 3500 | E22: =Assumptions!E$36*$B$7 -> 7700 | F22: =Assumptions!F$36*$B$7 -> 11900 | G22: =Assumptions!G$36*$B$7 -> 16100 | H22: =Assumptions!H$36*$B$7 -> 19600
A23: Active online customers | C23: 0 | D23: =C23*Assumptions!$B$16+D22 -> 3500 | E23: =D23*Assumptions!$B$16+E22 -> 9275 | F23: =E23*Assumptions!$B$16+F22 -> 16073.75 | G23: =F23*Assumptions!$B$16+G22 -> 23333.188 | H23: =G23*Assumptions!$B$16+H22 -> 30099.934
A24: Online orders | C24: 0 | D24: =D23*Assumptions!$B$17 -> 11200 | E24: =E23*Assumptions!$B$17 -> 29680 | F24: =F23*Assumptions!$B$17 -> 51436 | G24: =G23*Assumptions!$B$17 -> 74666.2 | H24: =H23*Assumptions!$B$17 -> 96319.79
A25: Online revenue (marketplaces + D2C) | C25: 0 | D25: =D24*Assumptions!$B$18/1000000*D$16 -> 0.28 | E25: =E24*Assumptions!$B$18/1000000*E$16 -> 1.484 | F25: =F24*Assumptions!$B$18/1000000*F$16 -> 2.5718 | G25: =G24*Assumptions!$B$18/1000000*G$16 -> 3.73331 | H25: =H24*Assumptions!$B$18/1000000*H$16 -> 4.8159895
A26: Foodservice / B2B revenue | C26: 0 | D26: =Assumptions!D$35*$B$6*D$16 -> 0.12 | E26: =Assumptions!E$35*$B$6*E$16 -> 0.72 | F26: =Assumptions!F$35*$B$6*F$16 -> 1.36 | G26: =Assumptions!G$35*$B$6*G$16 -> 2 | H26: =Assumptions!H$35*$B$6*H$16 -> 2.56
A27: Total net revenue | C27: 0 | D27: =D21+D25+D26 -> 0.69484 | E27: =E21+E25+E26 -> 4.5206 | F27: =F21+F25+F26 -> 8.87388 | G27: =G21+G25+G26 -> 13.53331 | H27: =H21+H25+H26 -> 17.759349
A28: Growth % | E28: =IFERROR(E27/D27-1,0) -> 5.5059582 | F28: =IFERROR(F27/E27-1,0) -> 0.96298721 | G28: =IFERROR(G27/F27-1,0) -> 0.52507246 | H28: =IFERROR(H27/G27-1,0) -> 0.31226947
A29: Implied share of SAM | D29: =IFERROR(D27/Assumptions!D$43,0) -> 0.0014270403 | E29: =IFERROR(E27/Assumptions!E$43,0) -> 0.0087176192 | F29: =IFERROR(F27/Assumptions!F$43,0) -> 0.016068146 | G29: =IFERROR(G27/Assumptions!G$43,0) -> 0.023009471 | H29: =IFERROR(H27/Assumptions!H$43,0) -> 0.028351761
A30: Gross profit
A31: COGS - retail | C31: 0 | D31: =D21*Assumptions!$B$22*$B$9 -> 0.19742486 | E31: =E21*Assumptions!$B$22*$B$9 -> 1.5511954 | F31: =F21*Assumptions!$B$22*$B$9 -> 3.3092168 | G31: =G21*Assumptions!$B$22*$B$9 -> 5.22288 | H31: =H21*Assumptions!$B$22*$B$9 -> 6.9526979
A32: COGS - online | C32: 0 | D32: =D25*Assumptions!$B$23*$B$9 -> 0.13608 | E32: =E25*Assumptions!$B$23*$B$9 -> 0.721224 | F32: =F25*Assumptions!$B$23*$B$9 -> 1.2498948 | G32: =G25*Assumptions!$B$23*$B$9 -> 1.8143887 | H32: =H25*Assumptions!$B$23*$B$9 -> 2.3405709
A33: COGS - foodservice | C33: 0 | D33: =D26*Assumptions!$B$24*$B$9 -> 0.09072 | E33: =E26*Assumptions!$B$24*$B$9 -> 0.54432 | F33: =F26*Assumptions!$B$24*$B$9 -> 1.02816 | G33: =G26*Assumptions!$B$24*$B$9 -> 1.512 | H33: =H26*Assumptions!$B$24*$B$9 -> 1.93536
A34: Gross profit | C34: 0 | D34: =D27-D31-D32-D33 -> 0.27061514 | E34: =E27-E31-E32-E33 -> 1.7038606 | F34: =F27-F31-F32-F33 -> 3.2866084 | G34: =G27-G31-G32-G33 -> 4.9840413 | H34: =H27-H31-H32-H33 -> 6.5307207
A35: Gross margin % | D35: =IFERROR(D34/D27,0) -> 0.38946396 | E35: =IFERROR(E34/E27,0) -> 0.37691029 | F35: =IFERROR(F34/F27,0) -> 0.37036882 | G35: =IFERROR(G34/G27,0) -> 0.36827955 | H35: =IFERROR(H34/H27,0) -> 0.36773423
A36: Operating expenses
A37: Trade and brand spend | C37: 0 | D37: =(D21+D26)*Assumptions!D$38*$B$10 -> 0.06969312 | E37: =(E21+E26)*Assumptions!E$38*$B$10 -> 0.4372704 | F37: =(F21+F26)*Assumptions!F$38*$B$10 -> 0.68062464 | G37: =(G21+G26)*Assumptions!G$38*$B$10 -> 0.882 | H37: =(H21+H26)*Assumptions!H$38*$B$10 -> 0.93192192
A38: Distribution and logistics | C38: 0 | D38: =(D21+D26)*Assumptions!D$39 -> 0.0186678 | E38: =(E21+E26)*Assumptions!E$39 -> 0.121464 | F38: =(F21+F26)*Assumptions!F$39 -> 0.23317696 | G38: =(G21+G26)*Assumptions!G$39 -> 0.343 | H38: =(H21+H26)*Assumptions!H$39 -> 0.4530176
A39: Marketplace commission + fulfilment | C39: 0 | D39: =D25*Assumptions!$B$19 -> 0.0504 | E39: =E25*Assumptions!$B$19 -> 0.26712 | F39: =F25*Assumptions!$B$19 -> 0.462924 | G39: =G25*Assumptions!$B$19 -> 0.6719958 | H39: =H25*Assumptions!$B$19 -> 0.86687811
A40: Customer acquisition spend (new customers x CAC) | C40: 0 | D40: =D22*Assumptions!D$37*$B$8/1000000 -> 0.14 | E40: =E22*Assumptions!E$37*$B$8/1000000 -> 0.28875 | F40: =F22*Assumptions!F$37*$B$8/1000000 -> 0.4165 | G40: =G22*Assumptions!G$37*$B$8/1000000 -> 0.52325 | H40: =H22*Assumptions!H$37*$B$8/1000000 -> 0.6125
A41: Local team | C41: 0 | D41: =Assumptions!D$40*$B$11 -> 1.65 | E41: =Assumptions!E$40*$B$11 -> 2.2 | F41: =Assumptions!F$40*$B$11 -> 2.75 | G41: =Assumptions!G$40*$B$11 -> 3.08 | H41: =Assumptions!H$40*$B$11 -> 3.3
A42: G&A and compliance | C42: 0 | D42: =Assumptions!D$41*$B$11 -> 0.55 | E42: =Assumptions!E$41*$B$11 -> 0.66 | F42: =Assumptions!F$41*$B$11 -> 0.715 | G42: =Assumptions!G$41*$B$11 -> 0.77 | H42: =Assumptions!H$41*$B$11 -> 0.825
...

Sheet Model_Base
A1: Saffron Route - Malaysia entry: five-year model (Base scenario, MYR m)
A2: Scenario | B2: Base
A3: Scenario index (1 Bear, 2 Base, 3 Bull) | B3: 2
A5: Door roll-out pace | B5: =INDEX(Assumptions!$B$48:$D$48,$B$3) -> 1
A6: Sales per door / foodservice volume | B6: =INDEX(Assumptions!$B$49:$D$49,$B$3) -> 1
A7: Online new-customer volume | B7: =INDEX(Assumptions!$B$50:$D$50,$B$3) -> 1
A8: CAC | B8: =INDEX(Assumptions!$B$51:$D$51,$B$3) -> 1
A9: COGS (FX, duty, freight) | B9: =INDEX(Assumptions!$B$52:$D$52,$B$3) -> 1
A10: Trade and brand spend | B10: =INDEX(Assumptions!$B$53:$D$53,$B$3) -> 1
A11: Fixed cost (team, G&A) | B11: =INDEX(Assumptions!$B$54:$D$54,$B$3) -> 1
A12: Year-1 revenue factor (halal / listing delay) | B12: =INDEX(Assumptions!$B$55:$D$55,$B$3) -> 1
A14: MYR m unless stated | C14: Y0 2027 | D14: Y1 2028 | E14: Y2 2029 | F14: Y3 2030 | G14: Y4 2031 | H14: Y5 2032
A15: Year index | C15: 0 | D15: 1 | E15: 2 | F15: 3 | G15: 4 | H15: 5
A16: Launch-year revenue factor | C16: 1 | D16: =$B$12 -> 1 | E16: 1 | F16: 1 | G16: 1 | H16: 1
A17: Revenue build
A18: Doors at year-end | C18: 0 | D18: =Assumptions!D$33*$B$5 -> 450 | E18: =Assumptions!E$33*$B$5 -> 1200 | F18: =Assumptions!F$33*$B$5 -> 2100 | G18: =Assumptions!G$33*$B$5 -> 2900 | H18: =Assumptions!H$33*$B$5 -> 3500
A19: Average doors in year | D19: =AVERAGE(C18,D18) -> 225 | E19: =AVERAGE(D18,E18) -> 825 | F19: =AVERAGE(E18,F18) -> 1650 | G19: =AVERAGE(F18,G18) -> 2500 | H19: =AVERAGE(G18,H18) -> 3200
A20: Monthly net sales per door (MYR) | D20: =Assumptions!D$34*$B$6 -> 420 | E20: =Assumptions!E$34*$B$6 -> 450 | F20: =Assumptions!F$34*$B$6 -> 480 | G20: =Assumptions!G$34*$B$6 -> 500 | H20: =Assumptions!H$34*$B$6 -> 520
A21: Retail revenue (via distributor) | C21: 0 | D21: =D19*D20*12/1000000*D$16 -> 1.134 | E21: =E19*E20*12/1000000*E$16 -> 4.455 | F21: =F19*F20*12/1000000*F$16 -> 9.504 | G21: =G19*G20*12/1000000*G$16 -> 15 | H21: =H19*H20*12/1000000*H$16 -> 19.968
A22: New online customers | C22: 0 | D22: =Assumptions!D$36*$B$7 -> 5000 | E22: =Assumptions!E$36*$B$7 -> 11000 | F22: =Assumptions!F$36*$B$7 -> 17000 | G22: =Assumptions!G$36*$B$7 -> 23000 | H22: =Assumptions!H$36*$B$7 -> 28000
A23: Active online customers | C23: 0 | D23: =C23*Assumptions!$B$16+D22 -> 5000 | E23: =D23*Assumptions!$B$16+E22 -> 13250 | F23: =E23*Assumptions!$B$16+F22 -> 22962.5 | G23: =F23*Assumptions!$B$16+G22 -> 33333.125 | H23: =G23*Assumptions!$B$16+H22 -> 42999.906
A24: Online orders | C24: 0 | D24: =D23*Assumptions!$B$17 -> 16000 | E24: =E23*Assumptions!$B$17 -> 42400 | F24: =F23*Assumptions!$B$17 -> 73480 | G24: =G23*Assumptions!$B$17 -> 106666 | H24: =H23*Assumptions!$B$17 -> 137599.7
A25: Online revenue (marketplaces + D2C) | C25: 0 | D25: =D24*Assumptions!$B$18/1000000*D$16 -> 0.8 | E25: =E24*Assumptions!$B$18/1000000*E$16 -> 2.12 | F25: =F24*Assumptions!$B$18/1000000*F$16 -> 3.674 | G25: =G24*Assumptions!$B$18/1000000*G$16 -> 5.3333 | H25: =H24*Assumptions!$B$18/1000000*H$16 -> 6.879985
A26: Foodservice / B2B revenue | C26: 0 | D26: =Assumptions!D$35*$B$6*D$16 -> 0.3 | E26: =Assumptions!E$35*$B$6*E$16 -> 0.9 | F26: =Assumptions!F$35*$B$6*F$16 -> 1.7 | G26: =Assumptions!G$35*$B$6*G$16 -> 2.5 | H26: =Assumptions!H$35*$B$6*H$16 -> 3.2
A27: Total net revenue | C27: 0 | D27: =D21+D25+D26 -> 2.234 | E27: =E21+E25+E26 -> 7.475 | F27: =F21+F25+F26 -> 14.878 | G27: =G21+G25+G26 -> 22.8333 | H27: =H21+H25+H26 -> 30.047985
A28: Growth % | E28: =IFERROR(E27/D27-1,0) -> 2.3460161 | F28: =IFERROR(F27/E27-1,0) -> 0.99036789 | G28: =IFERROR(G27/F27-1,0) -> 0.53470224 | H28: =IFERROR(H27/G27-1,0) -> 0.31597207
A29: Implied share of SAM | D29: =IFERROR(D27/Assumptions!D$43,0) -> 0.0045881181 | E29: =IFERROR(E27/Assumptions!E$43,0) -> 0.014414946 | F29: =IFERROR(F27/Assumptions!F$43,0) -> 0.026939948 | G29: =IFERROR(G27/Assumptions!G$43,0) -> 0.038821408 | H29: =IFERROR(H27/Assumptions!H$43,0) -> 0.047969848
A30: Gross profit
A31: COGS - retail | C31: 0 | D31: =D21*Assumptions!$B$22*$B$9 -> 0.70308 | E31: =E21*Assumptions!$B$22*$B$9 -> 2.7621 | F31: =F21*Assumptions!$B$22*$B$9 -> 5.89248 | G31: =G21*Assumptions!$B$22*$B$9 -> 9.3 | H31: =H21*Assumptions!$B$22*$B$9 -> 12.38016
A32: COGS - online | C32: 0 | D32: =D25*Assumptions!$B$23*$B$9 -> 0.36 | E32: =E25*Assumptions!$B$23*$B$9 -> 0.954 | F32: =F25*Assumptions!$B$23*$B$9 -> 1.6533 | G32: =G25*Assumptions!$B$23*$B$9 -> 2.399985 | H32: =H25*Assumptions!$B$23*$B$9 -> 3.0959932
A33: COGS - foodservice | C33: 0 | D33: =D26*Assumptions!$B$24*$B$9 -> 0.21 | E33: =E26*Assumptions!$B$24*$B$9 -> 0.63 | F33: =F26*Assumptions!$B$24*$B$9 -> 1.19 | G33: =G26*Assumptions!$B$24*$B$9 -> 1.75 | H33: =H26*Assumptions!$B$24*$B$9 -> 2.24
A34: Gross profit | C34: 0 | D34: =D27-D31-D32-D33 -> 0.96092 | E34: =E27-E31-E32-E33 -> 3.1289 | F34: =F27-F31-F32-F33 -> 6.14222 | G34: =G27-G31-G32-G33 -> 9.383315 | H34: =H27-H31-H32-H33 -> 12.331832
A35: Gross margin % | D35: =IFERROR(D34/D27,0) -> 0.43013429 | E35: =IFERROR(E34/E27,0) -> 0.41858194 | F35: =IFERROR(F34/F27,0) -> 0.41283909 | G35: =IFERROR(G34/G27,0) -> 0.4109487 | H35: =IFERROR(H34/H27,0) -> 0.41040462
A36: Operating expenses
A37: Trade and brand spend | C37: 0 | D37: =(D21+D26)*Assumptions!D$38*$B$10 -> 0.20076 | E37: =(E21+E26)*Assumptions!E$38*$B$10 -> 0.6426 | F37: =(F21+F26)*Assumptions!F$38*$B$10 -> 1.00836 | G37: =(G21+G26)*Assumptions!G$38*$B$10 -> 1.3125 | H37: =(H21+H26)*Assumptions!H$38*$B$10 -> 1.39008
A38: Distribution and logistics | C38: 0 | D38: =(D21+D26)*Assumptions!D$39 -> 0.06453 | E38: =(E21+E26)*Assumptions!E$39 -> 0.2142 | F38: =(F21+F26)*Assumptions!F$39 -> 0.414548 | G38: =(G21+G26)*Assumptions!G$39 -> 0.6125 | H38: =(H21+H26)*Assumptions!H$39 -> 0.81088
A39: Marketplace commission + fulfilment | C39: 0 | D39: =D25*Assumptions!$B$19 -> 0.144 | E39: =E25*Assumptions!$B$19 -> 0.3816 | F39: =F25*Assumptions!$B$19 -> 0.66132 | G39: =G25*Assumptions!$B$19 -> 0.959994 | H39: =H25*Assumptions!$B$19 -> 1.2383973
A40: Customer acquisition spend (new customers x CAC) | C40: 0 | D40: =D22*Assumptions!D$37*$B$8/1000000 -> 0.16 | E40: =E22*Assumptions!E$37*$B$8/1000000 -> 0.33 | F40: =F22*Assumptions!F$37*$B$8/1000000 -> 0.476 | G40: =G22*Assumptions!G$37*$B$8/1000000 -> 0.598 | H40: =H22*Assumptions!H$37*$B$8/1000000 -> 0.7
A41: Local team | C41: 0 | D41: =Assumptions!D$40*$B$11 -> 1.5 | E41: =Assumptions!E$40*$B$11 -> 2 | F41: =Assumptions!F$40*$B$11 -> 2.5 | G41: =Assumptions!G$40*$B$11 -> 2.8 | H41: =Assumptions!H$40*$B$11 -> 3
A42: G&A and compliance | C42: 0 | D42: =Assumptions!D$41*$B$11 -> 0.5 | E42: =Assumptions!E$41*$B$11 -> 0.6 | F42: =Assumptions!F$41*$B$11 -> 0.65 | G42: =Assumptions!G$41*$B$11 -> 0.7 | H42: =Assumptions!H$41*$B$11 -> 0.75
...

Sheet Model_Bull
A1: Saffron Route - Malaysia entry: five-year model (Bull scenario, MYR m)
A2: Scenario | B2: Bull
A3: Scenario index (1 Bear, 2 Base, 3 Bull) | B3: 3
A5: Door roll-out pace | B5: =INDEX(Assumptions!$B$48:$D$48,$B$3) -> 1.2
A6: Sales per door / foodservice volume | B6: =INDEX(Assumptions!$B$49:$D$49,$B$3) -> 1.1
A7: Online new-customer volume | B7: =INDEX(Assumptions!$B$50:$D$50,$B$3) -> 1.25
A8: CAC | B8: =INDEX(Assumptions!$B$51:$D$51,$B$3) -> 0.9
A9: COGS (FX, duty, freight) | B9: =INDEX(Assumptions!$B$52:$D$52,$B$3) -> 0.97
A10: Trade and brand spend | B10: =INDEX(Assumptions!$B$53:$D$53,$B$3) -> 0.95
A11: Fixed cost (team, G&A) | B11: =INDEX(Assumptions!$B$54:$D$54,$B$3) -> 0.95
A12: Year-1 revenue factor (halal / listing delay) | B12: =INDEX(Assumptions!$B$55:$D$55,$B$3) -> 1
A14: MYR m unless stated | C14: Y0 2027 | D14: Y1 2028 | E14: Y2 2029 | F14: Y3 2030 | G14: Y4 2031 | H14: Y5 2032
A15: Year index | C15: 0 | D15: 1 | E15: 2 | F15: 3 | G15: 4 | H15: 5
A16: Launch-year revenue factor | C16: 1 | D16: =$B$12 -> 1 | E16: 1 | F16: 1 | G16: 1 | H16: 1
A17: Revenue build
A18: Doors at year-end | C18: 0 | D18: =Assumptions!D$33*$B$5 -> 540 | E18: =Assumptions!E$33*$B$5 -> 1440 | F18: =Assumptions!F$33*$B$5 -> 2520 | G18: =Assumptions!G$33*$B$5 -> 3480 | H18: =Assumptions!H$33*$B$5 -> 4200
A19: Average doors in year | D19: =AVERAGE(C18,D18) -> 270 | E19: =AVERAGE(D18,E18) -> 990 | F19: =AVERAGE(E18,F18) -> 1980 | G19: =AVERAGE(F18,G18) -> 3000 | H19: =AVERAGE(G18,H18) -> 3840
A20: Monthly net sales per door (MYR) | D20: =Assumptions!D$34*$B$6 -> 462 | E20: =Assumptions!E$34*$B$6 -> 495 | F20: =Assumptions!F$34*$B$6 -> 528 | G20: =Assumptions!G$34*$B$6 -> 550 | H20: =Assumptions!H$34*$B$6 -> 572
A21: Retail revenue (via distributor) | C21: 0 | D21: =D19*D20*12/1000000*D$16 -> 1.49688 | E21: =E19*E20*12/1000000*E$16 -> 5.8806 | F21: =F19*F20*12/1000000*F$16 -> 12.54528 | G21: =G19*G20*12/1000000*G$16 -> 19.8 | H21: =H19*H20*12/1000000*H$16 -> 26.35776
A22: New online customers | C22: 0 | D22: =Assumptions!D$36*$B$7 -> 6250 | E22: =Assumptions!E$36*$B$7 -> 13750 | F22: =Assumptions!F$36*$B$7 -> 21250 | G22: =Assumptions!G$36*$B$7 -> 28750 | H22: =Assumptions!H$36*$B$7 -> 35000
A23: Active online customers | C23: 0 | D23: =C23*Assumptions!$B$16+D22 -> 6250 | E23: =D23*Assumptions!$B$16+E22 -> 16562.5 | F23: =E23*Assumptions!$B$16+F22 -> 28703.125 | G23: =F23*Assumptions!$B$16+G22 -> 41666.406 | H23: =G23*Assumptions!$B$16+H22 -> 53749.883
A24: Online orders | C24: 0 | D24: =D23*Assumptions!$B$17 -> 20000 | E24: =E23*Assumptions!$B$17 -> 53000 | F24: =F23*Assumptions!$B$17 -> 91850 | G24: =G23*Assumptions!$B$17 -> 133332.5 | H24: =H23*Assumptions!$B$17 -> 171999.62
A25: Online revenue (marketplaces + D2C) | C25: 0 | D25: =D24*Assumptions!$B$18/1000000*D$16 -> 1 | E25: =E24*Assumptions!$B$18/1000000*E$16 -> 2.65 | F25: =F24*Assumptions!$B$18/1000000*F$16 -> 4.5925 | G25: =G24*Assumptions!$B$18/1000000*G$16 -> 6.666625 | H25: =H24*Assumptions!$B$18/1000000*H$16 -> 8.5999813
A26: Foodservice / B2B revenue | C26: 0 | D26: =Assumptions!D$35*$B$6*D$16 -> 0.33 | E26: =Assumptions!E$35*$B$6*E$16 -> 0.99 | F26: =Assumptions!F$35*$B$6*F$16 -> 1.87 | G26: =Assumptions!G$35*$B$6*G$16 -> 2.75 | H26: =Assumptions!H$35*$B$6*H$16 -> 3.52
A27: Total net revenue | C27: 0 | D27: =D21+D25+D26 -> 2.82688 | E27: =E21+E25+E26 -> 9.5206 | F27: =F21+F25+F26 -> 19.00778 | G27: =G21+G25+G26 -> 29.216625 | H27: =H21+H25+H26 -> 38.477741
A28: Growth % | E28: =IFERROR(E27/D27-1,0) -> 2.3678826 | F28: =IFERROR(F27/E27-1,0) -> 0.99648972 | G28: =IFERROR(G27/F27-1,0) -> 0.53708771 | H28: =IFERROR(H27/G27-1,0) -> 0.31698104
A29: Implied share of SAM | D29: =IFERROR(D27/Assumptions!D$43,0) -> 0.0058057562 | E29: =IFERROR(E27/Assumptions!E$43,0) -> 0.018359723 | F29: =IFERROR(F27/Assumptions!F$43,0) -> 0.034417839 | G29: =IFERROR(G27/Assumptions!G$43,0) -> 0.049674402 | H29: =IFERROR(H27/Assumptions!H$43,0) -> 0.06142746
A30: Gross profit
A31: COGS - retail | C31: 0 | D31: =D21*Assumptions!$B$22*$B$9 -> 0.90022363 | E31: =E21*Assumptions!$B$22*$B$9 -> 3.5365928 | F31: =F21*Assumptions!$B$22*$B$9 -> 7.5447314 | G31: =G21*Assumptions!$B$22*$B$9 -> 11.90772 | H31: =H21*Assumptions!$B$22*$B$9 -> 15.851557
A32: COGS - online | C32: 0 | D32: =D25*Assumptions!$B$23*$B$9 -> 0.4365 | E32: =E25*Assumptions!$B$23*$B$9 -> 1.156725 | F32: =F25*Assumptions!$B$23*$B$9 -> 2.0046262 | G32: =G25*Assumptions!$B$23*$B$9 -> 2.9099818 | H32: =H25*Assumptions!$B$23*$B$9 -> 3.7538918
A33: COGS - foodservice | C33: 0 | D33: =D26*Assumptions!$B$24*$B$9 -> 0.22407 | E33: =E26*Assumptions!$B$24*$B$9 -> 0.67221 | F33: =F26*Assumptions!$B$24*$B$9 -> 1.26973 | G33: =G26*Assumptions!$B$24*$B$9 -> 1.86725 | H33: =H26*Assumptions!$B$24*$B$9 -> 2.39008
A34: Gross profit | C34: 0 | D34: =D27-D31-D32-D33 -> 1.2660864 | E34: =E27-E31-E32-E33 -> 4.1550722 | F34: =F27-F31-F32-F33 -> 8.1886924 | G34: =G27-G31-G32-G33 -> 12.531673 | H34: =H27-H31-H32-H33 -> 16.482213
A35: Gross margin % | D35: =IFERROR(D34/D27,0) -> 0.44787411 | E35: =IFERROR(E34/E27,0) -> 0.43642965 | F35: =IFERROR(F34/F27,0) -> 0.4308074 | G35: =IFERROR(G34/G27,0) -> 0.42892268 | H35: =IFERROR(H34/H27,0) -> 0.42835707
A36: Operating expenses
A37: Trade and brand spend | C37: 0 | D37: =(D21+D26)*Assumptions!D$38*$B$10 -> 0.24297504 | E37: =(E21+E26)*Assumptions!E$38*$B$10 -> 0.7832484 | F37: =(F21+F26)*Assumptions!F$38*$B$10 -> 1.2325064 | G37: =(G21+G26)*Assumptions!G$38*$B$10 -> 1.6066875 | H37: =(H21+H26)*Assumptions!H$38*$B$10 -> 1.7030323
A38: Distribution and logistics | C38: 0 | D38: =(D21+D26)*Assumptions!D$39 -> 0.0822096 | E38: =(E21+E26)*Assumptions!E$39 -> 0.274824 | F38: =(F21+F26)*Assumptions!F$39 -> 0.53336536 | G38: =(G21+G26)*Assumptions!G$39 -> 0.78925 | H38: =(H21+H26)*Assumptions!H$39 -> 1.0457216
A39: Marketplace commission + fulfilment | C39: 0 | D39: =D25*Assumptions!$B$19 -> 0.18 | E39: =E25*Assumptions!$B$19 -> 0.477 | F39: =F25*Assumptions!$B$19 -> 0.82665 | G39: =G25*Assumptions!$B$19 -> 1.1999925 | H39: =H25*Assumptions!$B$19 -> 1.5479966
A40: Customer acquisition spend (new customers x CAC) | C40: 0 | D40: =D22*Assumptions!D$37*$B$8/1000000 -> 0.18 | E40: =E22*Assumptions!E$37*$B$8/1000000 -> 0.37125 | F40: =F22*Assumptions!F$37*$B$8/1000000 -> 0.5355 | G40: =G22*Assumptions!G$37*$B$8/1000000 -> 0.67275 | H40: =H22*Assumptions!H$37*$B$8/1000000 -> 0.7875
A41: Local team | C41: 0 | D41: =Assumptions!D$40*$B$11 -> 1.425 | E41: =Assumptions!E$40*$B$11 -> 1.9 | F41: =Assumptions!F$40*$B$11 -> 2.375 | G41: =Assumptions!G$40*$B$11 -> 2.66 | H41: =Assumptions!H$40*$B$11 -> 2.85
A42: G&A and compliance | C42: 0 | D42: =Assumptions!D$41*$B$11 -> 0.475 | E42: =Assumptions!E$41*$B$11 -> 0.57 | F42: =Assumptions!F$41*$B$11 -> 0.6175 | G42: =Assumptions!G$41*$B$11 -> 0.665 | H42: =Assumptions!H$41*$B$11 -> 0.7125
...

Sheet Mode_Compare
A1: Entry-mode comparison: simplified five-year economics on a common SOM path (MYR m)
A2: Simplification: cash tax = tax rate x positive EBITDA (no loss carry-forward or depreciation shield); NWC and WACC as in Assumptions. Mode parameters are JUDGEMENT - flex the blue cells. The recommended hybrid is valued in the full Model_Base; the four modes use this simplified basis, so read the ranking as directional.
A4: Direct entry (own subsidiary) | C4: Y0 2027 | D4: Y1 2028 | E4: Y2 2029 | F4: Y3 2030 | G4: Y4 2031 | H4: Y5 2032
A5: Realisation of SOM path | D5: 0.35 | E5: 0.55 | F5: 0.75 | G5: 0.9 | H5: 1
A6: Revenue | C6: 0 | D6: =Assumptions!D$44*D5 -> 0.85209227 | E6: =Assumptions!E$44*E5 -> 3.9929044 | F6: =Assumptions!F$44*F5 -> 11.183373 | G6: =Assumptions!G$44*G5 -> 20.644507 | H6: =Assumptions!H$44*H5 -> 30.066872
A7: Gross margin % (B) | B7: 0.46
A8: Gross profit | D8: =D6*$B$7 -> 0.39196245 | E8: =E6*$B$7 -> 1.836736 | F8: =F6*$B$7 -> 5.1443517 | G8: =G6*$B$7 -> 9.4964733 | H8: =H6*$B$7 -> 13.830761
A9: Variable cost % revenue (B) | B9: 0.24
A10: Fixed opex | D10: 4.5 | E10: 4.8 | F10: 5.1 | G10: 5.3 | H10: 5.5
A11: Set-up cost | C11: 2
A12: EBITDA | C12: =-C11 -> -2 | D12: =D8-D6*$B$9-D10 -> -4.3125397 | E12: =E8-E6*$B$9-E10 -> -3.921561 | F12: =F8-F6*$B$9-F10 -> -2.6396579 | G12: =G8-G6*$B$9-G10 -> -0.75820843 | H12: =H8-H6*$B$9-H10 -> 1.1147118
A13: Cash tax | D13: =MAX(D12,0)*Assumptions!$B$9 -> 0 | E13: =MAX(E12,0)*Assumptions!$B$9 -> 0 | F13: =MAX(F12,0)*Assumptions!$B$9 -> 0 | G13: =MAX(G12,0)*Assumptions!$B$9 -> 0 | H13: =MAX(H12,0)*Assumptions!$B$9 -> 0.26753084
A14: Capex | C14: 3 | D14: 1 | E14: 1 | F14: 0.8 | G14: 0.8 | H14: 0.8
A15: Change in NWC | D15: =(D6-C6)*Assumptions!$B$10 -> 0.12781384 | E15: =(E6-D6)*Assumptions!$B$10 -> 0.47112182 | F15: =(F6-E6)*Assumptions!$B$10 -> 1.0785703 | G15: =(G6-F6)*Assumptions!$B$10 -> 1.4191701 | H15: =(H6-G6)*Assumptions!$B$10 -> 1.4133547
A16: Free cash flow (100%) | C16: =C12-C14 -> -5 | D16: =D12-D13-D14-D15 -> -5.4403535 | E16: =E12-E13-E14-E15 -> -5.3926829 | F16: =F12-F13-F14-F15 -> -4.5182282 | G16: =G12-G13-G14-G15 -> -2.9773785 | H16: =H12-H13-H14-H15 -> -1.3661737
A17: Saffron ownership share (B) | B17: 1
A18: Saffron free cash flow | C18: =C16*$B$17 -> -5 | D18: =D16*$B$17 -> -5.4403535 | E18: =E16*$B$17 -> -5.3926829 | F18: =F16*$B$17 -> -4.5182282 | G18: =G16*$B$17 -> -2.9773785 | H18: =H16*$B$17 -> -1.3661737
A19: PV | C19: =C18/(1+Assumptions!$B$7)^0 -> -5 | D19: =D18/(1+Assumptions!$B$7)^1 -> -4.8574585 | E19: =E18/(1+Assumptions!$B$7)^2 -> -4.2990138 | F19: =F18/(1+Assumptions!$B$7)^3 -> -3.2159856 | G19: =G18/(1+Assumptions!$B$7)^4 -> -1.8921779 | H19: =H18/(1+Assumptions!$B$7)^5 -> -0.77520366
A20: Terminal value | H20: =MAX(H18,0)*(1+Assumptions!$B$8)/(Assumptions!$B$7-Assumptions!$B$8) -> 0
A21: NPV incl. terminal value (floored at 0) | B21: =SUM(C19:H19)+H20/(1+Assumptions!$B$7)^5 -> -20.039839
A22: NPV explicit 5 years only | B22: =SUM(C19:H19) -> -20.039839
A23: Peak funding need | B23: =-MIN(C24:H24) -> 24.694817
A24: Cumulative Saffron FCF | C24: =C18 -> -5 | D24: =C24+D18 -> -10.440354 | E24: =D24+E18 -> -15.833036 | F24: =E24+F18 -> -20.351265 | G24: =F24+G18 -> -23.328643 | H24: =G24+H18 -> -24.694817
A25: Year-5 revenue | B25: =H6 -> 30.066872
A26: Year-5 EBITDA margin | B26: =IFERROR(H12/H6,0) -> 0.03707442
A28: Local distribution partnership | C28: Y0 2027 | D28: Y1 2028 | E28: Y2 2029 | F28: Y3 2030 | G28: Y4 2031 | H28: Y5 2032
A29: Realisation of SOM path | D29: 0.8 | E29: 0.9 | F29: 0.95 | G29: 0.95 | H29: 0.95
A30: Revenue | C30: 0 | D30: =Assumptions!D$44*D29 -> 1.9476395 | E30: =Assumptions!E$44*E29 -> 6.5338436 | F30: =Assumptions!F$44*F29 -> 14.165606 | G30: =Assumptions!G$44*G29 -> 21.791424 | H30: =Assumptions!H$44*H29 -> 28.563528
A31: Gross margin % (B) | B31: 0.36
A32: Gross profit | D32: =D30*$B$31 -> 0.70115021 | E32: =E30*$B$31 -> 2.3521837 | F32: =F30*$B$31 -> 5.0996182 | G32: =G30*$B$31 -> 7.8449127 | H32: =H30*$B$31 -> 10.28287
A33: Variable cost % revenue (B) | B33: 0.18
A34: Fixed opex | D34: 1.8 | E34: 2 | F34: 2.1 | G34: 2.2 | H34: 2.2
A35: Set-up cost | C35: 1
A36: EBITDA | C36: =-C35 -> -1 | D36: =D32-D30*$B$33-D34 -> -1.4494249 | E36: =E32-E30*$B$33-E34 -> -0.82390816 | F36: =F32-F30*$B$33-F34 -> 0.44980912 | G36: =G32-G30*$B$33-G34 -> 1.7224564 | H36: =H32-H30*$B$33-H34 -> 2.9414351
A37: Cash tax | D37: =MAX(D36,0)*Assumptions!$B$9 -> 0 | E37: =MAX(E36,0)*Assumptions!$B$9 -> 0 | F37: =MAX(F36,0)*Assumptions!$B$9 -> 0.10795419 | G37: =MAX(G36,0)*Assumptions!$B$9 -> 0.41338953 | H37: =MAX(H36,0)*Assumptions!$B$9 -> 0.70594442
A38: Capex | C38: 0.5 | D38: 0.3 | E38: 0.3 | F38: 0.3 | G38: 0.3 | H38: 0.3
A39: Change in NWC | D39: =(D30-C30)*Assumptions!$B$10 -> 0.29214592 | E39: =(E30-D30)*Assumptions!$B$10 -> 0.68793061 | F39: =(F30-E30)*Assumptions!$B$10 -> 1.1447644 | G39: =(G30-F30)*Assumptions!$B$10 -> 1.1438727 | H39: =(H30-G30)*Assumptions!$B$10 -> 1.0158156
A40: Free cash flow (100%) | C40: =C36-C38 -> -1.5 | D40: =D36-D37-D38-D39 -> -2.0415708 | E40: =E36-E37-E38-E39 -> -1.8118388 | F40: =F36-F37-F38-F39 -> -1.1029095 | G40: =G36-G37-G38-G39 -> -0.13480587 | H40: =H36-H37-H38-H39 -> 0.91967506
A41: Saffron ownership share (B) | B41: 1
A42: Saffron free cash flow | C42: =C40*$B$41 -> -1.5 | D42: =D40*$B$41 -> -2.0415708 | E42: =E40*$B$41 -> -1.8118388 | F42: =F40*$B$41 -> -1.1029095 | G42: =G40*$B$41 -> -0.13480587 | H42: =H40*$B$41 -> 0.91967506
...

Sheet Entry_Scorecard
A1: Entry-strategy scorecard (weights and 1-5 scores are judgements; financial score is computed from NPV)
A3: Criterion | B3: Weight | C3: Direct entry (own subsidiary) | D3: Local distribution partnership | E3: Joint venture (51:49) | F3: Digital-first (marketplace + D2C) | G3: Recommended: partner-led hybrid + digital layer
A4: Financial return (NPV, computed) | B4: 0.3 | C4: =1+4*(Mode_Compare!$B$21-MIN(Mode_Compare!$B$21,Mode_Compare!$B$45,Mode_Compare!$B$69,Mode_Compare!$B$93,Model_Base!$B$85))/(MAX(Mode_Compare!$B$21,Mode_Compare!$B$45,Mode_Compare!$B$69,Mode_Compare!$B$93,Model_Base!$B$85)-MIN(Mode_Compare!$B$21,Mode_Compare!$B$45,Mode_Compare!$B$69,Mode_Compare!$B$93,Model_Base!$B$85)) -> 1 | D4: =1+4*(Mode_Compare!$B$45-MIN(Mode_Compare!$B$21,Mode_Compare!$B$45,Mode_Compare!$B$69,Mode_Compare!$B$93,Model_Base!$B$85))/(MAX(Mode_Compare!$B$21,Mode_Compare!$B$45,Mode_Compare!$B$69,Mode_Compare!$B$93,Model_Base!$B$85)-MIN(Mode_Compare!$B$21,Mode_Compare!$B$45,Mode_Compare!$B$69,Mode_Compare!$B$93,Model_Base!$B$85)) -> 3.6264957 | E4: =1+4*(Mode_Compare!$B$69-MIN(Mode_Compare!$B$21,Mode_Compare!$B$45,Mode_Compare!$B$69,Mode_Compare!$B$93,Model_Base!$B$85))/(MAX(Mode_Compare!$B$21,Mode_Compare!$B$45,Mode_Compare!$B$69,Mode_Compare!$B$93,Model_Base!$B$85)-MIN(Mode_Compare!$B$21,Mode_Compare!$B$45,Mode_Compare!$B$69,Mode_Compare!$B$93,Model_Base!$B$85)) -> 2.3467452 | F4: =1+4*(Mode_Compare!$B$93-MIN(Mode_Compare!$B$21,Mode_Compare!$B$45,Mode_Compare!$B$69,Mode_Compare!$B$93,Model_Base!$B$85))/(MAX(Mode_Compare!$B$21,Mode_Compare!$B$45,Mode_Compare!$B$69,Mode_Compare!$B$93,Model_Base!$B$85)-MIN(Mode_Compare!$B$21,Mode_Compare!$B$45,Mode_Compare!$B$69,Mode_Compare!$B$93,Model_Base!$B$85)) -> 2.7318964 | G4: =1+4*(Model_Base!$B$85-MIN(Mode_Compare!$B$21,Mode_Compare!$B$45,Mode_Compare!$B$69,Mode_Compare!$B$93,Model_Base!$B$85))/(MAX(Mode_Compare!$B$21,Mode_Compare!$B$45,Mode_Compare!$B$69,Mode_Compare!$B$93,Model_Base!$B$85)-MIN(Mode_Compare!$B$21,Mode_Compare!$B$45,Mode_Compare!$B$69,Mode_Compare!$B$93,Model_Base!$B$85)) -> 5
A5: Speed to market | B5: 0.15 | C5: 2 | D5: 5 | E5: 3 | F5: 4 | G5: 5
A6: Capital at risk (5 = low) | B6: 0.15 | C6: 1 | D6: 4 | E6: 2 | F6: 4 | G6: 4
A7: Control and brand building | B7: 0.15 | C7: 5 | D7: 2 | E7: 3 | F7: 4 | G7: 4
A8: Halal, regulatory and local know-how | B8: 0.15 | C8: 2 | D8: 4 | E8: 5 | F8: 3 | G8: 4
A9: Scalability and optionality | B9: 0.1 | C9: 3 | D9: 3 | E9: 3 | F9: 2 | G9: 5
A10: Weighted score (max 5.0) | B10: =SUM(B4:B9) -> 1 | C10: =SUMPRODUCT($B$4:$B$9,C4:C9) -> 2.1 | D10: =SUMPRODUCT($B$4:$B$9,D4:D9) -> 3.6379487 | E10: =SUMPRODUCT($B$4:$B$9,E4:E9) -> 2.9540236 | F10: =SUMPRODUCT($B$4:$B$9,F4:F9) -> 3.2695689 | G10: =SUMPRODUCT($B$4:$B$9,G4:G9) -> 4.55
A11: Rank | C11: =RANK(C10,$C$10:$G$10) -> 5 | D11: =RANK(D10,$C$10:$G$10) -> 2 | E11: =RANK(E10,$C$10:$G$10) -> 4 | F11: =RANK(F10,$C$10:$G$10) -> 3 | G11: =RANK(G10,$C$10:$G$10) -> 1

Sheet Sensitivity
A1: Sensitivity of Base-case NPV incl. terminal value (MYR m)
A2: Values are pasted from re-running this workbook with one input flexed at a time (a data-table equivalent). They do not recalculate; re-run if inputs change.
A3: Base NPV (MYR m) | D3: 11.783603
A4: Driver flexed | B4: Low case | C4: High case | D4: NPV at low | E4: NPV at high | F4: Delta low | G4: Delta high | H4: Swing
A5: Discount rate (WACC) | B5: 14% | C5: 10% | D5: 7.5082785 | E5: 18.720788 | F5: =D5-$D$3 -> -4.2753245 | G5: =E5-$D$3 -> 6.9371851 | H5: =ABS(G5-F5) -> 11.21251
A6: Sales per door / foodservice volume | B6: -20% | C6: +20% | D6: 5.6009788 | E6: 15.289379 | F6: =D6-$D$3 -> -6.1826242 | G6: =E6-$D$3 -> 3.5057764 | H6: =ABS(G6-F6) -> 9.6884006
A7: Door roll-out pace | B7: -20% | C7: +20% | D7: 6.4529061 | E7: 14.97488 | F7: =D7-$D$3 -> -5.3306969 | G7: =E7-$D$3 -> 3.191277 | H7: =ABS(G7-F7) -> 8.5219739
A8: COGS (FX, duty, freight) | B8: +5% | C8: -5% | D8: 6.9446113 | E8: 15.149655 | F8: =D8-$D$3 -> -4.8389917 | G8: =E8-$D$3 -> 3.3660515 | H8: =ABS(G8-F8) -> 8.2050432
A9: Fixed costs (team, G&A) | B9: +20% | C9: -20% | D9: 7.2069751 | E9: 13.66041 | F9: =D9-$D$3 -> -4.5766279 | G9: =E9-$D$3 -> 1.8768072 | H9: =ABS(G9-F9) -> 6.4534352
A10: Terminal growth | B10: 2% | C10: 4% | D10: 9.9316952 | E10: 14.098488 | F10: =D10-$D$3 -> -1.8519078 | G10: =E10-$D$3 -> 2.3148848 | H10: =ABS(G10-F10) -> 4.1667926
A11: Net working capital % revenue | B11: 18% | C11: 12% | D11: 9.7603153 | E11: 13.806891 | F11: =D11-$D$3 -> -2.0232877 | G11: =E11-$D$3 -> 2.0232877 | H11: =ABS(G11-F11) -> 4.0465754
A12: Online new-customer volume | B12: -30% | C12: +30% | D12: 10.330483 | E12: 13.234196 | F12: =D12-$D$3 -> -1.4531204 | G12: =E12-$D$3 -> 1.4505933 | H12: =ABS(G12-F12) -> 2.9037137
A13: Trade and brand spend | B13: +20% | C13: -20% | D13: 10.915418 | E13: 12.651788 | F13: =D13-$D$3 -> -0.86818472 | G13: =E13-$D$3 -> 0.86818472 | H13: =ABS(G13-F13) -> 1.7363694
A14: Customer acquisition cost | B14: +30% | C14: -30% | D14: 11.114344 | E14: 12.452862 | F14: =D14-$D$3 -> -0.66925867 | G14: =E14-$D$3 -> 0.66925867 | H14: =ABS(G14-F14) -> 1.3385173
